BEGIN:VCALENDAR
VERSION:2.0
PRODID:-//4events.turnok.eu - ECPv6.15.13.1//NONSGML v1.0//EN
CALSCALE:GREGORIAN
METHOD:PUBLISH
X-ORIGINAL-URL:https://4events.turnok.eu
X-WR-CALDESC:Events for 4events.turnok.eu
REFRESH-INTERVAL;VALUE=DURATION:PT1H
X-Robots-Tag:noindex
X-PUBLISHED-TTL:PT1H
BEGIN:VTIMEZONE
TZID:UTC
BEGIN:STANDARD
TZOFFSETFROM:+0000
TZOFFSETTO:+0000
TZNAME:UTC
DTSTART:20240101T000000
END:STANDARD
END:VTIMEZONE
BEGIN:VEVENT
DTSTART;TZID=UTC:20251220T080000
DTEND;TZID=UTC:20251220T170000
DTSTAMP:20260419T134044
CREATED:20251214T091316Z
LAST-MODIFIED:20251214T112057Z
UID:10000001-1766217600-1766250000@4events.turnok.eu
SUMMARY:20 December Shanti Sagar
DESCRIPTION:
URL:https://4events.turnok.eu/event/20-december-shanti-sagar/
END:VEVENT
END:VCALENDAR